View In:
ArcMap
Google Earth
ArcGIS JavaScript
ArcGIS.com Map
View Footprint In:
Google Earth
Service Description:
Name: EdendaleImages2013
Description:
Extent:
XMin: -90279.2499999991
YMin: -3294139.5
XMax: -43571.6878063366
YMax: -3266597
Spatial Reference: PROJCS["WGS_1984_Transverse_Mercator",GEOGCS["GCS_WGS_1984",DATUM["D_WGS_1984",SPHEROID["WGS_1984",6378137.0,298.257223560493]],PRIMEM["Greenwich",0.0],UNIT["Degree",0.0174532925199433]],PROJECTION["Transverse_Mercator"],PARAMETER["false_easting",0.0],PARAMETER["false_northing",0.0],PARAMETER["central_meridian",31.0],PARAMETER["scale_factor",1.0],PARAMETER["latitude_of_origin",0.0],UNIT["Meter",1.0]]
Time Info:
Pixel Size X: 0.249998994779573
Pixel Size Y: 0.25
Band Count: 3
Pixel Type: U8
Min Pixel Size: 0
Maximum Pixel Size: 0
Copyright Text:
Service Data Type: esriImageServiceDataTypeRGB
Min Values: 0, 0, 0
Max Values: 254, 254, 254
Mean Values: 114.024551731487, 116.02319109462, 100.157278635714
Standard Deviation Values: 34.2133831246067, 27.3307325611765, 26.4759654926166
Object ID Field: OBJECTID
Fields:
- OBJECTID (Type: esriFieldTypeOID, Alias: OBJECTID)
- Shape (Type: esriFieldTypeGeometry, Alias: Shape)
- Name (Type: esriFieldTypeString, Alias: Name)
- MinPS (Type: esriFieldTypeDouble, Alias: MinPS)
- MaxPS (Type: esriFieldTypeDouble, Alias: MaxPS)
- LowPS (Type: esriFieldTypeDouble, Alias: LowPS)
- HighPS (Type: esriFieldTypeDouble, Alias: HighPS)
- Category (Type: esriFieldTypeInteger, Alias: Category)
- Tag (Type: esriFieldTypeString, Alias: Tag)
- GroupName (Type: esriFieldTypeString, Alias: GroupName)
- ProductName (Type: esriFieldTypeString, Alias: ProductName)
- CenterX (Type: esriFieldTypeDouble, Alias: CenterX)
- CenterY (Type: esriFieldTypeDouble, Alias: CenterY)
- ZOrder (Type: esriFieldTypeInteger, Alias: ZOrder)
- SOrder (Type: esriFieldTypeInteger, Alias: SOrder)
- StereoID (Type: esriFieldTypeString, Alias: StereoID)
- Shape_Length (Type: esriFieldTypeDouble, Alias: Shape_Length)
- Shape_Area (Type: esriFieldTypeDouble, Alias: Shape_Area)
Supported Interfaces:
REST
SOAP
Supported Operations:
Export Image
Query
Identify
Download