View In:
ArcMap
Google Earth
ArcGIS JavaScript
ArcGIS.com Map
View Footprint In:
Google Earth
Service Description:
Name: BuffaloCityRaster
Description:
Extent:
XMin: 15238.9158935547
YMin: -3685403.63922119
XMax: 101335.87512207
YMax: -3616000
Spatial Reference: PROJCS["WG27",GEOGCS["GCS_Hartebeesthoek_1994",DATUM["D_Hartebeesthoek_1994",SPHEROID["WGS_1984",6378137.0,298.257223563]],PRIMEM["Greenwich",0.0],UNIT["Degree",0.0174532925199433]],PROJECTION["Transverse_Mercator"],PARAMETER["False_Easting",0.0],PARAMETER["False_Northing",0.0],PARAMETER["Central_Meridian",27.0],PARAMETER["Scale_Factor",1.0],PARAMETER["Latitude_Of_Origin",0.0],UNIT["Meter",1.0]]
Time Info:
Pixel Size X: 0.124999759324884
Pixel Size Y: 0.124999800481228
Band Count: 3
Pixel Type: U8
Min Pixel Size: 0
Maximum Pixel Size: 0
Copyright Text:
Service Data Type: esriImageServiceDataTypeRGB
Min Values:
Max Values:
Mean Values:
Standard Deviation Values:
Object ID Field: OBJECTID
Fields:
- OBJECTID (Type: esriFieldTypeOID, Alias: OBJECTID)
- Shape (Type: esriFieldTypeGeometry, Alias: Shape)
- Name (Type: esriFieldTypeString, Alias: Name)
- MinPS (Type: esriFieldTypeDouble, Alias: MinPS)
- MaxPS (Type: esriFieldTypeDouble, Alias: MaxPS)
- LowPS (Type: esriFieldTypeDouble, Alias: LowPS)
- HighPS (Type: esriFieldTypeDouble, Alias: HighPS)
- Category (Type: esriFieldTypeInteger, Alias: Category)
- Tag (Type: esriFieldTypeString, Alias: Tag)
- GroupName (Type: esriFieldTypeString, Alias: GroupName)
- ProductName (Type: esriFieldTypeString, Alias: ProductName)
- CenterX (Type: esriFieldTypeDouble, Alias: CenterX)
- CenterY (Type: esriFieldTypeDouble, Alias: CenterY)
- ZOrder (Type: esriFieldTypeInteger, Alias: ZOrder)
- SOrder (Type: esriFieldTypeInteger, Alias: SOrder)
- StereoID (Type: esriFieldTypeString, Alias: StereoID)
- Shape_Length (Type: esriFieldTypeDouble, Alias: Shape_Length)
- Shape_Area (Type: esriFieldTypeDouble, Alias: Shape_Area)
Supported Interfaces:
REST
SOAP
Supported Operations:
Export Image
Query
Identify
Download